BEGIN:VCALENDAR
VERSION:2.0
PRODID:-//Helmut von Kügelgen Schule Fellbach - ECPv6.15.14//NONSGML v1.0//EN
CALSCALE:GREGORIAN
METHOD:PUBLISH
X-ORIGINAL-URL:https://cw-fellbach.de
X-WR-CALDESC:Veranstaltungen für Helmut von Kügelgen Schule Fellbach
REFRESH-INTERVAL;VALUE=DURATION:PT1H
X-Robots-Tag:noindex
X-PUBLISHED-TTL:PT1H
BEGIN:VTIMEZONE
TZID:Europe/Berlin
BEGIN:DAYLIGHT
TZOFFSETFROM:+0100
TZOFFSETTO:+0200
TZNAME:CEST
DTSTART:20240331T010000
END:DAYLIGHT
BEGIN:STANDARD
TZOFFSETFROM:+0200
TZOFFSETTO:+0100
TZNAME:CET
DTSTART:20241027T010000
END:STANDARD
BEGIN:DAYLIGHT
TZOFFSETFROM:+0100
TZOFFSETTO:+0200
TZNAME:CEST
DTSTART:20250330T010000
END:DAYLIGHT
BEGIN:STANDARD
TZOFFSETFROM:+0200
TZOFFSETTO:+0100
TZNAME:CET
DTSTART:20251026T010000
END:STANDARD
BEGIN:DAYLIGHT
TZOFFSETFROM:+0100
TZOFFSETTO:+0200
TZNAME:CEST
DTSTART:20260329T010000
END:DAYLIGHT
BEGIN:STANDARD
TZOFFSETFROM:+0200
TZOFFSETTO:+0100
TZNAME:CET
DTSTART:20261025T010000
END:STANDARD
END:VTIMEZONE
BEGIN:VEVENT
DTSTART;TZID=Europe/Berlin:20250204T193000
DTEND;TZID=Europe/Berlin:20250204T210000
DTSTAMP:20260421T160816
CREATED:20250131T114828Z
LAST-MODIFIED:20250131T114828Z
UID:4876-1738697400-1738702800@cw-fellbach.de
SUMMARY:Elternabend Klasse 8
DESCRIPTION:
URL:https://cw-fellbach.de/termin/elternabend-klasse-8-15/
END:VEVENT
BEGIN:VEVENT
DTSTART;TZID=Europe/Berlin:20250204T193000
DTEND;TZID=Europe/Berlin:20250204T213000
DTSTAMP:20260421T160816
CREATED:20241128T081147Z
LAST-MODIFIED:20241128T081147Z
UID:4864-1738697400-1738704600@cw-fellbach.de
SUMMARY:Elternabend Klasse 6
DESCRIPTION:
URL:https://cw-fellbach.de/termin/elternabend-klasse-6-22/
END:VEVENT
BEGIN:VEVENT
DTSTART;TZID=Europe/Berlin:20250205T193000
DTEND;TZID=Europe/Berlin:20250205T210000
DTSTAMP:20260421T160816
CREATED:20250113T080636Z
LAST-MODIFIED:20250113T080636Z
UID:4867-1738783800-1738789200@cw-fellbach.de
SUMMARY:Elternabend Klasse 3
DESCRIPTION:
URL:https://cw-fellbach.de/termin/elternabend-klasse-3-24/
LOCATION:Campus Freie Schule Fellbach\, Siemensstr.5\, Siemensstr. 5\, Fellbach
END:VEVENT
BEGIN:VEVENT
DTSTART;TZID=Europe/Berlin:20250211T190000
DTEND;TZID=Europe/Berlin:20250211T203000
DTSTAMP:20260421T160816
CREATED:20250131T114934Z
LAST-MODIFIED:20250131T114934Z
UID:4878-1739300400-1739305800@cw-fellbach.de
SUMMARY:Elternabend Klasse 4
DESCRIPTION:
URL:https://cw-fellbach.de/termin/elternabend-klasse-4-17/
END:VEVENT
END:VCALENDAR