BEGIN:VCALENDAR
VERSION:2.0
PRODID:-//Helmut von Kügelgen Schule Fellbach - ECPv6.15.14//NONSGML v1.0//EN
CALSCALE:GREGORIAN
METHOD:PUBLISH
X-WR-CALNAME:Helmut von Kügelgen Schule Fellbach
X-ORIGINAL-URL:https://cw-fellbach.de
X-WR-CALDESC:Veranstaltungen für Helmut von Kügelgen Schule Fellbach
REFRESH-INTERVAL;VALUE=DURATION:PT1H
X-Robots-Tag:noindex
X-PUBLISHED-TTL:PT1H
BEGIN:VTIMEZONE
TZID:Europe/Berlin
BEGIN:DAYLIGHT
TZOFFSETFROM:+0100
TZOFFSETTO:+0200
TZNAME:CEST
DTSTART:20240331T010000
END:DAYLIGHT
BEGIN:STANDARD
TZOFFSETFROM:+0200
TZOFFSETTO:+0100
TZNAME:CET
DTSTART:20241027T010000
END:STANDARD
BEGIN:DAYLIGHT
TZOFFSETFROM:+0100
TZOFFSETTO:+0200
TZNAME:CEST
DTSTART:20250330T010000
END:DAYLIGHT
BEGIN:STANDARD
TZOFFSETFROM:+0200
TZOFFSETTO:+0100
TZNAME:CET
DTSTART:20251026T010000
END:STANDARD
BEGIN:DAYLIGHT
TZOFFSETFROM:+0100
TZOFFSETTO:+0200
TZNAME:CEST
DTSTART:20260329T010000
END:DAYLIGHT
BEGIN:STANDARD
TZOFFSETFROM:+0200
TZOFFSETTO:+0100
TZNAME:CET
DTSTART:20261025T010000
END:STANDARD
END:VTIMEZONE
BEGIN:VEVENT
DTSTART;TZID=Europe/Berlin:20250524T100000
DTEND;TZID=Europe/Berlin:20250524T140000
DTSTAMP:20260424T210715
CREATED:20250409T084104Z
LAST-MODIFIED:20250409T084104Z
UID:4885-1748080800-1748095200@cw-fellbach.de
SUMMARY:Bühnentag
DESCRIPTION:Schulpflichtiger Samstag
URL:https://cw-fellbach.de/termin/buehnentag/
END:VEVENT
BEGIN:VEVENT
DTSTART;TZID=Europe/Berlin:20250531T100000
DTEND;TZID=Europe/Berlin:20250531T120000
DTSTAMP:20260424T210715
CREATED:20240717T070722Z
LAST-MODIFIED:20250401T102206Z
UID:4784-1748685600-1748692800@cw-fellbach.de
SUMMARY:Schule auf der Bühne    - ABGESAGT!  -
DESCRIPTION:– schulpflichtiger Samstag –
URL:https://cw-fellbach.de/termin/schule-auf-der-buehne-9/
END:VEVENT
END:VCALENDAR